BEGIN:VCALENDAR
VERSION:2.0
PRODID:-//sozialismus.info - ECPv6.15.20//NONSGML v1.0//EN
CALSCALE:GREGORIAN
METHOD:PUBLISH
X-WR-CALNAME:sozialismus.info
X-ORIGINAL-URL:https://www.sozialismus.info
X-WR-CALDESC:Veranstaltungen für sozialismus.info
REFRESH-INTERVAL;VALUE=DURATION:PT1H
X-Robots-Tag:noindex
X-PUBLISHED-TTL:PT1H
BEGIN:VTIMEZONE
TZID:Europe/Berlin
BEGIN:DAYLIGHT
TZOFFSETFROM:+0100
TZOFFSETTO:+0200
TZNAME:CEST
DTSTART:20220327T010000
END:DAYLIGHT
BEGIN:STANDARD
TZOFFSETFROM:+0200
TZOFFSETTO:+0100
TZNAME:CET
DTSTART:20221030T010000
END:STANDARD
BEGIN:DAYLIGHT
TZOFFSETFROM:+0100
TZOFFSETTO:+0200
TZNAME:CEST
DTSTART:20230326T010000
END:DAYLIGHT
BEGIN:STANDARD
TZOFFSETFROM:+0200
TZOFFSETTO:+0100
TZNAME:CET
DTSTART:20231029T010000
END:STANDARD
BEGIN:DAYLIGHT
TZOFFSETFROM:+0100
TZOFFSETTO:+0200
TZNAME:CEST
DTSTART:20240331T010000
END:DAYLIGHT
BEGIN:STANDARD
TZOFFSETFROM:+0200
TZOFFSETTO:+0100
TZNAME:CET
DTSTART:20241027T010000
END:STANDARD
BEGIN:DAYLIGHT
TZOFFSETFROM:+0100
TZOFFSETTO:+0200
TZNAME:CEST
DTSTART:20250330T010000
END:DAYLIGHT
BEGIN:STANDARD
TZOFFSETFROM:+0200
TZOFFSETTO:+0100
TZNAME:CET
DTSTART:20251026T010000
END:STANDARD
BEGIN:DAYLIGHT
TZOFFSETFROM:+0100
TZOFFSETTO:+0200
TZNAME:CEST
DTSTART:20260329T010000
END:DAYLIGHT
BEGIN:STANDARD
TZOFFSETFROM:+0200
TZOFFSETTO:+0100
TZNAME:CET
DTSTART:20261025T010000
END:STANDARD
END:VTIMEZONE
BEGIN:VEVENT
DTSTART;TZID=Europe/Berlin:20250927T143000
DTEND;TZID=Europe/Berlin:20250927T210000
DTSTAMP:20260424T000411
CREATED:20250912T144551Z
LAST-MODIFIED:20250912T144551Z
UID:10000706-1758983400-1759006800@www.sozialismus.info
SUMMARY:Zusammen für Gaza. Stoppt den Völkermord.
DESCRIPTION:Bundesweite Großdemonstration mit anschließender Kundgebung – Sa. 27.9. in Berlin. \nForderungen der Demo:\n– Stoppt den Völkermord\n– Stopp aller Waffenexporte und jeglicher militärischer Kooperation mit Israel\n– Sofortiger Zugang zu humanitärer Hilfe für alle Menschen in Gaza\n– Schutz von Meinungs-\, Wissenschafts- und Versammlungsfreiheit in Deutschland \nMehr Infos unter: www.zusammen-fuer-gaza.de
URL:https://www.sozialismus.info/termin/zusammen-fuer-gaza-stoppt-den-voelkermord/
LOCATION:Neptunbrunnen\, Alexanderplatz\, Berlin\, Alexanderplatz\, Berlin\, Berlin\, Deutschland
CATEGORIES:public
ATTACH;FMTTYPE=image/png:https://www.sozialismus.info/wp-content/uploads/2025/09/ZFGPosterDinA2_2908_DRUCK.webp
END:VEVENT
BEGIN:VEVENT
DTSTART;TZID=Europe/Berlin:20231104T140000
DTEND;TZID=Europe/Berlin:20231104T140000
DTSTAMP:20260424T000411
CREATED:20231028T183938Z
LAST-MODIFIED:20231028T183938Z
UID:10000501-1699106400-1699106400@www.sozialismus.info
SUMMARY:Berlin: Großdemo - Free Plaestine will not be cancelled: Stoppt den Genozid in Gaza! Nein zu den Demo-Verboten!
DESCRIPTION:Unter diese Motto mobilisert ein Bündnis verschiedener Organisationen und Gruppe für Samstag\, den 4.11.2023 nach Berlin. Auch wir wollen daran teilnehmen und gegen den Krieg gegen Gaza und die weitere Eskalation in Israel-Palästina demonstrieren und auch gegen die Kriminialisierung/Repression von Solidarität mit Palästineser*innen hier in Deutschland. \nSolidarität mit den Arbeiter*innen und Jugendlichen\, mit den israelischen und palästinensischen Menschen auf beiden Seiten des Zauns\, anstatt mit der Hamas oder der israelischen Regierung und Armee!
URL:https://www.sozialismus.info/termin/berlin-grossdemo-free-plaestine-will-not-be-cancelled-stoppt-den-genozid-in-gaza-nein-zu-den-demo-verboten/
LOCATION:Neptunbrunnen\, Alexanderplatz\, Berlin\, Alexanderplatz\, Berlin\, Berlin\, Deutschland
ATTACH;FMTTYPE=image/jpeg:https://www.sozialismus.info/wp-content/uploads/2023/10/photo_2023-10-28-20.29.00-jpeg.webp
END:VEVENT
END:VCALENDAR