BEGIN:VCALENDAR
VERSION:2.0
PRODID:-//sozialismus.info - ECPv6.15.20//NONSGML v1.0//EN
CALSCALE:GREGORIAN
METHOD:PUBLISH
X-WR-CALNAME:sozialismus.info
X-ORIGINAL-URL:https://www.sozialismus.info
X-WR-CALDESC:Veranstaltungen für sozialismus.info
REFRESH-INTERVAL;VALUE=DURATION:PT1H
X-Robots-Tag:noindex
X-PUBLISHED-TTL:PT1H
BEGIN:VTIMEZONE
TZID:Europe/Berlin
BEGIN:DAYLIGHT
TZOFFSETFROM:+0100
TZOFFSETTO:+0200
TZNAME:CEST
DTSTART:20180325T010000
END:DAYLIGHT
BEGIN:STANDARD
TZOFFSETFROM:+0200
TZOFFSETTO:+0100
TZNAME:CET
DTSTART:20181028T010000
END:STANDARD
BEGIN:DAYLIGHT
TZOFFSETFROM:+0100
TZOFFSETTO:+0200
TZNAME:CEST
DTSTART:20190331T010000
END:DAYLIGHT
BEGIN:STANDARD
TZOFFSETFROM:+0200
TZOFFSETTO:+0100
TZNAME:CET
DTSTART:20191027T010000
END:STANDARD
BEGIN:DAYLIGHT
TZOFFSETFROM:+0100
TZOFFSETTO:+0200
TZNAME:CEST
DTSTART:20200329T010000
END:DAYLIGHT
BEGIN:STANDARD
TZOFFSETFROM:+0200
TZOFFSETTO:+0100
TZNAME:CET
DTSTART:20201025T010000
END:STANDARD
BEGIN:DAYLIGHT
TZOFFSETFROM:+0100
TZOFFSETTO:+0200
TZNAME:CEST
DTSTART:20210328T010000
END:DAYLIGHT
BEGIN:STANDARD
TZOFFSETFROM:+0200
TZOFFSETTO:+0100
TZNAME:CET
DTSTART:20211031T010000
END:STANDARD
BEGIN:DAYLIGHT
TZOFFSETFROM:+0100
TZOFFSETTO:+0200
TZNAME:CEST
DTSTART:20220327T010000
END:DAYLIGHT
BEGIN:STANDARD
TZOFFSETFROM:+0200
TZOFFSETTO:+0100
TZNAME:CET
DTSTART:20221030T010000
END:STANDARD
BEGIN:DAYLIGHT
TZOFFSETFROM:+0100
TZOFFSETTO:+0200
TZNAME:CEST
DTSTART:20230326T010000
END:DAYLIGHT
BEGIN:STANDARD
TZOFFSETFROM:+0200
TZOFFSETTO:+0100
TZNAME:CET
DTSTART:20231029T010000
END:STANDARD
END:VTIMEZONE
BEGIN:VEVENT
DTSTART;TZID=Europe/Berlin:20220427T193000
DTEND;TZID=Europe/Berlin:20220427T193000
DTSTAMP:20260425T153945
CREATED:20220423T142306Z
LAST-MODIFIED:20220423T142333Z
UID:10000469-1651087800-1651087800@www.sozialismus.info
SUMMARY:Klima und Krieg - was hat das miteinander zu tun?
DESCRIPTION:Öffentliches Treffen der SAV in Köln mit Referat und anschließende Diskussion über den Zusammenhang zwischen Klimakrise und Krieg. \nGäste sind herzlich willkommen! \n27. April\, 19:30 Uhr\, Allerweltshaus\, Körnerstr.77\, Köln-Ehrenfeld
URL:https://www.sozialismus.info/termin/klima-und-krieg-was-hat-das-miteinander-zu-tun/
LOCATION:Köln: Allerweltshaus Ehrenfeld\, Geisselstraße 3-5\, Köln\, NRW\, 50825\, Deutschland
ORGANIZER;CN="SAV K%C3%B6ln":MAILTO:koelnsav@gmail.com
END:VEVENT
BEGIN:VEVENT
DTSTART;TZID=Europe/Berlin:20211201T193000
DTEND;TZID=Europe/Berlin:20211201T210000
DTSTAMP:20260425T153945
CREATED:20211116T204751Z
LAST-MODIFIED:20211116T204751Z
UID:10000398-1638387000-1638392400@www.sozialismus.info
SUMMARY:Sexistische Gewalt - Fight back!
DESCRIPTION:Veranstaltung der SAV Köln
URL:https://www.sozialismus.info/termin/sexistische-gewalt-fight-back/
LOCATION:Köln: Allerweltshaus Ehrenfeld\, Geisselstraße 3-5\, Köln\, NRW\, 50825\, Deutschland
ORGANIZER;CN="SAV K%C3%B6ln":MAILTO:koelnsav@gmail.com
END:VEVENT
BEGIN:VEVENT
DTSTART;TZID=Europe/Berlin:20211117T193000
DTEND;TZID=Europe/Berlin:20211117T213000
DTSTAMP:20260425T153945
CREATED:20211110T183000Z
LAST-MODIFIED:20211106T213919Z
UID:10000397-1637177400-1637184600@www.sozialismus.info
SUMMARY:Bericht von den COP26-Protesten
DESCRIPTION:offenes Treffen der SAV Köln mit einem Rückbericht von den COP26-Protesten und Diskussionen dazu.
URL:https://www.sozialismus.info/termin/bericht-von-den-cop26-protesten/
LOCATION:Köln: Allerweltshaus Ehrenfeld\, Geisselstraße 3-5\, Köln\, NRW\, 50825\, Deutschland
ORGANIZER;CN="SAV K%C3%B6ln":MAILTO:koelnsav@gmail.com
END:VEVENT
BEGIN:VEVENT
DTSTART;TZID=Europe/Berlin:20211104T190000
DTEND;TZID=Europe/Berlin:20211104T210000
DTSTAMP:20260425T153945
CREATED:20211104T180000Z
LAST-MODIFIED:20211027T084748Z
UID:10000395-1636052400-1636059600@www.sozialismus.info
SUMMARY:Warum gehen wir am 25.11 auf die Straße?
DESCRIPTION:Warum gehen wir am 25.11 auf die Straße?  – wir wollen diese Frage aus sozialistisch-feministischer Sicht diskutieren und einen Banner malen für die Demo am 25.11.
URL:https://www.sozialismus.info/termin/warum-gehen-wir-am-25-11-auf-die-strasse/
LOCATION:Köln: Allerweltshaus Ehrenfeld\, Geisselstraße 3-5\, Köln\, NRW\, 50825\, Deutschland
END:VEVENT
BEGIN:VEVENT
DTSTART;TZID=Europe/Berlin:20211020T193000
DTEND;TZID=Europe/Berlin:20211020T193000
DTSTAMP:20260425T153945
CREATED:20211019T084604Z
LAST-MODIFIED:20211019T084604Z
UID:10000375-1634758200-1634758200@www.sozialismus.info
SUMMARY:Wie entwickeln sich Klassenkämpfe heute?
DESCRIPTION:Offenes Treffen der SAV Köln mit Referat und Diskussion
URL:https://www.sozialismus.info/termin/wie-entwickeln-sich-klassenkaempfe-heute/
LOCATION:Köln: Allerweltshaus Ehrenfeld\, Geisselstraße 3-5\, Köln\, NRW\, 50825\, Deutschland
ORGANIZER;CN="SAV K%C3%B6ln":MAILTO:koelnsav@gmail.com
END:VEVENT
BEGIN:VEVENT
DTSTART;TZID=Europe/Berlin:20211013T193000
DTEND;TZID=Europe/Berlin:20211013T210000
DTSTAMP:20260425T153945
CREATED:20211013T075858Z
LAST-MODIFIED:20211013T075858Z
UID:10000311-1634153400-1634158800@www.sozialismus.info
SUMMARY:Geschichte der Arbeiter*innenbewegung
DESCRIPTION:offenes Treffern der SAV Köln mit einem Referat zum Thema „Geschichte der Arbeiter*innenbewegung“ und Diskussion.
URL:https://www.sozialismus.info/termin/geschichte-der-arbeiterinnenbewegung/
LOCATION:Köln: Allerweltshaus Ehrenfeld\, Geisselstraße 3-5\, Köln\, NRW\, 50825\, Deutschland
ORGANIZER;CN="SAV K%C3%B6ln":MAILTO:koelnsav@gmail.com
END:VEVENT
BEGIN:VEVENT
DTSTART;TZID=Europe/Berlin:20200305T190000
DTEND;TZID=Europe/Berlin:20200305T190000
DTSTAMP:20260425T153945
CREATED:20200219T122349Z
LAST-MODIFIED:20200219T122349Z
UID:10000350-1583434800-1583434800@www.sozialismus.info
SUMMARY:Socialists vs. Trump: Vom Aufschwung der Linken und dem Kampf gegen die Klasse der Milliardäre in den USA
DESCRIPTION:Europaweite Speakerstour mit Ginger Jentzen (Socialist Alternative\, USA) \nDie USA 2020 – ein milliardenschwerer Präsident Trump macht ultrarechte Politik\, steckt Migrant*innen in Lager\, macht die Reichen reicher und gießt Öl ins Feuer der Kriegsgefahr weltweit. Wie kann man da von einem „Aufschwung der Linken“ reden? \nTatsächlich gibt es in den USA keinen isolierten Rechtsruck sondern eine starke Polarisierung und riesige Kämpfe. Millionen waren auf den Womens Marches. Es gibt massenhaft lokale Aktionen gegen die rassistischen Lager von ICE. Und mit Bernie Sanders gibt es einen offen als Sozialisten auftretenden Kandidaten\, der Millionen Menschen in den USA begeistert und sagt\, dass es einen Kampf gegen die Klasse der Milliardäre geben muss. \nIn Seattle hat unsere Socialist Alternative-Genossin Kshama Sawant die Stadtratswahl in ihrem Bezirk gewonnen\, obwohl Amazon & Co all ihre Medienmacht und siebenstellige Finanzresourcen gegen sie ins Feld geworfen haben. Und in verschiedenen Städten konnten wir eine kämpferische Kampagne für einen $15-Mindestlohn erfolgreich gewinnen. \nGinger Jentzen ist aktiv bei Socialist Alternative in Minneapolis\, war Campaign Organizer für die Mindestlohnkampagne „15NOW“ und wird uns von Kampf gegen Trump und den Bewegungen in den USA berichten – und auch darüber reden\, wie sozialistisch Bernie Sanders ist und was seine Kandidatur bei den Menschen bewirkt. \nIn den Veranstaltungen wird übersetzt.
URL:https://www.sozialismus.info/termin/socialists-vs-trump-vom-aufschwung-der-linken-und-dem-kampf-gegen-die-klasse-der-milliardaere-in-den-usa-6/
LOCATION:Köln: Allerweltshaus Ehrenfeld\, Geisselstraße 3-5\, Köln\, NRW\, 50825\, Deutschland
END:VEVENT
BEGIN:VEVENT
DTSTART;TZID=Europe/Berlin:20191218T193000
DTEND;TZID=Europe/Berlin:20191218T223000
DTSTAMP:20260425T153945
CREATED:20191207T145123Z
LAST-MODIFIED:20191207T145123Z
UID:10000339-1576697400-1576708200@www.sozialismus.info
SUMMARY:Jahresabschlussfeier der SAV Köln
DESCRIPTION:mit politischem Jahresrückblick\, Glühwein\, Plätzchen und anderen Köstlichkeiten – und natürlich spannenden Diskussionen. Ihr seid alle herzlichen eingeladen\, mit uns das Jahr ausklingen zu lassen; gerne dürft ihr Freund*innen und Bekannte\, und auch was zu essen oder zu trinken mitbringen.
URL:https://www.sozialismus.info/termin/jahresabschlussfeier-der-sav-koeln/
LOCATION:Köln: Allerweltshaus Ehrenfeld\, Geisselstraße 3-5\, Köln\, NRW\, 50825\, Deutschland
ORGANIZER;CN="SAV K%C3%B6ln":MAILTO:koelnsav@gmail.com
END:VEVENT
BEGIN:VEVENT
DTSTART;TZID=Europe/Berlin:20191127T193000
DTEND;TZID=Europe/Berlin:20191127T213000
DTSTAMP:20260425T153945
CREATED:20191115T111151Z
LAST-MODIFIED:20191115T153532Z
UID:10000328-1574883000-1574890200@www.sozialismus.info
SUMMARY:Die Macht lag auf der Strasse - 30 Jahre DDR-Revolution. Eine Augenzeugin berichtet.
DESCRIPTION:
URL:https://www.sozialismus.info/termin/treffen-der-ortsgruppe-koeln-2019-11-27/
LOCATION:Köln: Allerweltshaus Ehrenfeld\, Geisselstraße 3-5\, Köln\, NRW\, 50825\, Deutschland
END:VEVENT
BEGIN:VEVENT
DTSTART;TZID=Europe/Berlin:20191106T193000
DTEND;TZID=Europe/Berlin:20191106T213000
DTSTAMP:20260425T153945
CREATED:20191011T192528Z
LAST-MODIFIED:20191015T202051Z
UID:10000323-1573068600-1573075800@www.sozialismus.info
SUMMARY:Demokratische Planung. International. Der einzige Weg aus der Klimakrise.
DESCRIPTION:
URL:https://www.sozialismus.info/termin/koeln-demokratische-planung-international-der-einzige-weg-aus-der-klimakrise/
LOCATION:Köln: Allerweltshaus Ehrenfeld\, Geisselstraße 3-5\, Köln\, NRW\, 50825\, Deutschland
ORGANIZER;CN="SAV K%C3%B6ln":MAILTO:koelnsav@gmail.com
END:VEVENT
BEGIN:VEVENT
DTSTART;TZID=Europe/Berlin:20191030T193000
DTEND;TZID=Europe/Berlin:20191030T213000
DTSTAMP:20260425T153945
CREATED:20191011T191537Z
LAST-MODIFIED:20191015T201211Z
UID:10000322-1572463800-1572471000@www.sozialismus.info
SUMMARY:CO2-Steuer: Was würde sie bringen? Wer würde bezahlen?
DESCRIPTION:
URL:https://www.sozialismus.info/termin/co2-steuer-was-wuerde-sie-bringen-wer-wuerde-bezahlen/
LOCATION:Köln: Allerweltshaus Ehrenfeld\, Geisselstraße 3-5\, Köln\, NRW\, 50825\, Deutschland
ORGANIZER;CN="SAV K%C3%B6ln":MAILTO:koelnsav@gmail.com
END:VEVENT
END:VCALENDAR