BEGIN:VCALENDAR
VERSION:2.0
PRODID:-//sozialismus.info - ECPv6.15.20//NONSGML v1.0//EN
CALSCALE:GREGORIAN
METHOD:PUBLISH
X-ORIGINAL-URL:https://www.sozialismus.info
X-WR-CALDESC:Veranstaltungen für sozialismus.info
REFRESH-INTERVAL;VALUE=DURATION:PT1H
X-Robots-Tag:noindex
X-PUBLISHED-TTL:PT1H
BEGIN:VTIMEZONE
TZID:Europe/Berlin
BEGIN:DAYLIGHT
TZOFFSETFROM:+0100
TZOFFSETTO:+0200
TZNAME:CEST
DTSTART:20200329T010000
END:DAYLIGHT
BEGIN:STANDARD
TZOFFSETFROM:+0200
TZOFFSETTO:+0100
TZNAME:CET
DTSTART:20201025T010000
END:STANDARD
BEGIN:DAYLIGHT
TZOFFSETFROM:+0100
TZOFFSETTO:+0200
TZNAME:CEST
DTSTART:20210328T010000
END:DAYLIGHT
BEGIN:STANDARD
TZOFFSETFROM:+0200
TZOFFSETTO:+0100
TZNAME:CET
DTSTART:20211031T010000
END:STANDARD
BEGIN:DAYLIGHT
TZOFFSETFROM:+0100
TZOFFSETTO:+0200
TZNAME:CEST
DTSTART:20220327T010000
END:DAYLIGHT
BEGIN:STANDARD
TZOFFSETFROM:+0200
TZOFFSETTO:+0100
TZNAME:CET
DTSTART:20221030T010000
END:STANDARD
BEGIN:DAYLIGHT
TZOFFSETFROM:+0100
TZOFFSETTO:+0200
TZNAME:CEST
DTSTART:20230326T010000
END:DAYLIGHT
BEGIN:STANDARD
TZOFFSETFROM:+0200
TZOFFSETTO:+0100
TZNAME:CET
DTSTART:20231029T010000
END:STANDARD
END:VTIMEZONE
BEGIN:VEVENT
DTSTART;TZID=Europe/Berlin:20220807T150000
DTEND;TZID=Europe/Berlin:20220807T150000
DTSTAMP:20260424T122851
CREATED:20220707T011520Z
LAST-MODIFIED:20220707T011520Z
UID:10000478-1659884400-1659884400@www.sozialismus.info
SUMMARY:Pride is a protest – Queer liberation not rainbow capitalism!
DESCRIPTION:Der Ursprung des CSD sind radikale Proteste zur Erkämpfung der Rechte queerer Personen. Und obwohl schon einiges erreicht wurde\, muss noch vieles erkämpft und Bestehendes weiter verteidigt werden. Deswegen ruft ROSA einen Tag nach dem CSD in Hamburg zu einer Kundgebung unter dem Motto „Pride is a protest – queer liberation not rainbow capitalism!“\nKommt gerne vorbei!\n\nZur Vorbereitung auf den CSD und die „Pride is a Protest“-Kundgebung kommt gerne auch am kommenden Samstag 09.07. ab 18 Uhr vorbei um bei Getränken und Musik vorm Centro (Sternstr. 2\, U Feldstr.) entspannt Transpis zu malen\, Buttons zu machen\, Stencilvorlagen zu erstellen usw…
URL:https://www.sozialismus.info/termin/pride-is-a-protest-queer-liberation-not-rainbow-capitalism/
LOCATION:Hamburg: Arrivati Park\, Hamburg
ATTACH;FMTTYPE=image/jpeg:https://www.sozialismus.info/wp-content/uploads/2022/07/ROSA_HH_Kundgebung-7.8.22.jpg
END:VEVENT
BEGIN:VEVENT
DTSTART;TZID=Europe/Berlin:20220514T150000
DTEND;TZID=Europe/Berlin:20220514T160000
DTSTAMP:20260424T122851
CREATED:20220512T185412Z
LAST-MODIFIED:20220512T185412Z
UID:10000473-1652540400-1652544000@www.sozialismus.info
SUMMARY:Soli-Aktion: Abtreibungsrechte weltweit verteidigen und erkämpfen!
DESCRIPTION:In den USA steht ein historischer Angriff auf Abtreibungsrechte bevor. Der geleakte Entwurf des obersten Gerichtshofes sieht vor\, das 1973 durch Massenbewegungen erkämpfte Grundsatzurteil „Roe v. Wade“ – welches das Recht auf Schwangerschaftsabbrüche garantiert – zu kippen. In 26 Bundesstaaten wären Abtreibungen sofort weitgehend verboten. Auch andere Rechte\, insbesondere der LGBTQI-Community\, wären infolge dieses Rollbacks bedroht. Der Angriff trifft Frauen aus der Arbeiter*innenklasse\, arme\, Schwarze\, migrantische Frauen\, am härtesten.\nAngesichts dieser schockierenden Nachrichten aus den USA – wollen wir kurzfristig am Samstag 14.5. um 15 Uhr beim Grünen Jäger / Arrivatipark eine Aktion in Solidarität mit den Protesten in den USA machen und betonen\, dass wir weltweit Abtreibungsrechte verteidigen und erkämpfen müssen! Wir würden uns sehr freuen\, wenn ihr dazu kommt. Geplant sind ein paar Kurzreden durch das Megaphon. Aktionen mit Straßenmalkreide und Schildern um Aufmerksamtkeit auf das Thema zu lenken!
URL:https://www.sozialismus.info/termin/soli-aktion-abtreibungsrechte-weltweit-verteidigen-und-erkaempfen/
LOCATION:Hamburg: Arrivati Park\, Hamburg
END:VEVENT
BEGIN:VEVENT
DTSTART;TZID=Europe/Berlin:20211030T140000
DTEND;TZID=Europe/Berlin:20211030T160000
DTSTAMP:20260424T122851
CREATED:20211005T073312Z
LAST-MODIFIED:20211005T073312Z
UID:10000306-1635602400-1635609600@www.sozialismus.info
SUMMARY:Kundgebung: Sexistische Gewalt hat System - Fight back!
DESCRIPTION:
URL:https://www.sozialismus.info/termin/kundgebung-sexistische-gewalt-hat-system-fight-back/
LOCATION:Hamburg: Arrivati Park\, Hamburg
ATTACH;FMTTYPE=image/png:https://www.sozialismus.info/wp-content/uploads/2021/10/Plakat-Hamburg-30.10..png
END:VEVENT
END:VCALENDAR