BEGIN:VCALENDAR
VERSION:2.0
PRODID:-//sozialismus.info - ECPv6.15.20//NONSGML v1.0//EN
CALSCALE:GREGORIAN
METHOD:PUBLISH
X-ORIGINAL-URL:https://www.sozialismus.info
X-WR-CALDESC:Veranstaltungen für sozialismus.info
REFRESH-INTERVAL;VALUE=DURATION:PT1H
X-Robots-Tag:noindex
X-PUBLISHED-TTL:PT1H
BEGIN:VTIMEZONE
TZID:Europe/Berlin
BEGIN:DAYLIGHT
TZOFFSETFROM:+0100
TZOFFSETTO:+0200
TZNAME:CEST
DTSTART:20200329T010000
END:DAYLIGHT
BEGIN:STANDARD
TZOFFSETFROM:+0200
TZOFFSETTO:+0100
TZNAME:CET
DTSTART:20201025T010000
END:STANDARD
BEGIN:DAYLIGHT
TZOFFSETFROM:+0100
TZOFFSETTO:+0200
TZNAME:CEST
DTSTART:20210328T010000
END:DAYLIGHT
BEGIN:STANDARD
TZOFFSETFROM:+0200
TZOFFSETTO:+0100
TZNAME:CET
DTSTART:20211031T010000
END:STANDARD
BEGIN:DAYLIGHT
TZOFFSETFROM:+0100
TZOFFSETTO:+0200
TZNAME:CEST
DTSTART:20220327T010000
END:DAYLIGHT
BEGIN:STANDARD
TZOFFSETFROM:+0200
TZOFFSETTO:+0100
TZNAME:CET
DTSTART:20221030T010000
END:STANDARD
BEGIN:DAYLIGHT
TZOFFSETFROM:+0100
TZOFFSETTO:+0200
TZNAME:CEST
DTSTART:20230326T010000
END:DAYLIGHT
BEGIN:STANDARD
TZOFFSETFROM:+0200
TZOFFSETTO:+0100
TZNAME:CET
DTSTART:20231029T010000
END:STANDARD
BEGIN:DAYLIGHT
TZOFFSETFROM:+0100
TZOFFSETTO:+0200
TZNAME:CEST
DTSTART:20240331T010000
END:DAYLIGHT
BEGIN:STANDARD
TZOFFSETFROM:+0200
TZOFFSETTO:+0100
TZNAME:CET
DTSTART:20241027T010000
END:STANDARD
END:VTIMEZONE
BEGIN:VEVENT
DTSTART;TZID=Europe/Berlin:20231106T190000
DTEND;TZID=Europe/Berlin:20231106T210000
DTSTAMP:20260424T150807
CREATED:20231028T185740Z
LAST-MODIFIED:20231028T185740Z
UID:10000594-1699297200-1699304400@www.sozialismus.info
SUMMARY:SAV-Onlineveranstaltung: Gemeinsamer Kampf für ein Ende von Besatzung\, Blockade und Unterdrückung
DESCRIPTION:6.11.2023 um 19 Uhr via Zoom \nhttps://us02web.zoom.us/j/89160462496?pwd=YVdlUVNwcHgrZXYxc3N0VVBoWlcwdz09 \nMeeting-ID: 891 6046 2496\nKenncode: 623297 \nSchnelleinwahl mobil\n+496950500951\,\,89160462496# \nDetails folgen hier: https://www.sozialismus.info/gaza/
URL:https://www.sozialismus.info/termin/sav-onlineveranstaltung-gemeinsamer-kampf-fuer-ein-ende-von-besatzung-blockade-und-unterdrueckung/
LOCATION:Zoom
ORGANIZER;CN="SAV":MAILTO:info@sozialismus.info
END:VEVENT
BEGIN:VEVENT
DTSTART;TZID=Europe/Berlin:20221129T190000
DTEND;TZID=Europe/Berlin:20221129T190000
DTSTAMP:20260424T150807
CREATED:20221121T110813Z
LAST-MODIFIED:20221128T160722Z
UID:10000521-1669748400-1669748400@www.sozialismus.info
SUMMARY:Bericht über die revolutionären Proteste im Iran
DESCRIPTION:Sarah (ROSA/ ISA aus Wien) ist über Zoom zugeschaltet und berichtet über die aktuelle Bewegung\, die Hintergründe\, mögliche sozialistische Perspektiven und wie wir Solidarität organisieren können. \n  \nAachen: Türkisches Volkshaus\, Friedrichstraße 8 \nHamburg: Centro Sociale\, Sternstraße 2 \nKassel: Kulturzentrum Schlachthof\, Mombachstr. 10 \nKöln: Natufreundehaus Mitte\, Franz-Hitze-Str. 8 \nBerlin: Adresse auf Anfrage \nBremen: Linkstreff\, Buntentorsteinweg 109 \nNürnberg: Jesuitenhaus\, Virchowstraße 27
URL:https://www.sozialismus.info/termin/bericht-ueber-die-revolutionaeren-proteste-im-iran/
LOCATION:Bundesweit\, Deutschland
ATTACH;FMTTYPE=image/png:https://www.sozialismus.info/wp-content/uploads/2022/11/Iran_Sarah_VA.png
ORGANIZER;CN="SAV":MAILTO:info@sozialismus.info
END:VEVENT
BEGIN:VEVENT
DTSTART;VALUE=DATE:20220506
DTEND;VALUE=DATE:20220509
DTSTAMP:20260424T150807
CREATED:20220306T095400Z
LAST-MODIFIED:20220424T180615Z
UID:10000432-1651795200-1652054399@www.sozialismus.info
SUMMARY:Sozialistische Maitage - Eine Welt zu gewinnen
DESCRIPTION:WIR LADEN ALLE – EGAL\, OB GERADE ERST INTERESSIERT AN POLITISCHEN THEMEN ODER LANGJÄHRIGE AKTIVIST*INNEN – ZU UNSEREN SOZIALISTISCHEN MAITAGEN 2022 EIN! \nWir freuen uns darauf\, politischen Fragen auf den Grund zu gehen und gemeizu diskutieren\, mit welcher Strategie und welchem Programm wir den Kapitalismus überwinden und eine Welt gewinnen können\, die sich an unseren Bedürfnissen und Interessen orientiert. \nWir wollen aber auch theoretische Diskussionen und kreative Aktionen miteinander verbinden. \nInformiert euch und meldet euch an\, wir freuen uns auf euch!
URL:https://www.sozialismus.info/termin/sozialistische-maitage-eine-welt-zu-gewinnen/
LOCATION:Jugendherberge       Helmarshausen\, Gottsbürener Str. 15\, Bad Karlshafen\, 34385
ATTACH;FMTTYPE=image/png:https://www.sozialismus.info/wp-content/uploads/2022/03/image.png
ORGANIZER;CN="SAV":MAILTO:info@sozialismus.info
END:VEVENT
BEGIN:VEVENT
DTSTART;TZID=Europe/Berlin:20220421T193000
DTEND;TZID=Europe/Berlin:20220421T213000
DTSTAMP:20260424T150807
CREATED:20220420T123047Z
LAST-MODIFIED:20220420T123047Z
UID:10000466-1650569400-1650576600@www.sozialismus.info
SUMMARY:Die Pariser Kommune
DESCRIPTION:Offenes Online-Treffen von SAV-Mitgliedern mit Referat und Diskussion über die Pariser Kommune\, die Geschehnisse und welche Lehren wir daraus ziehen können. Gäste sind willkommen! \nLink: https://us02web.zoom.us/j/85826941688?pwd=RXRyNGtUUUVJYlJPVVFIWURGa1dXUT09 \nMeeting-ID: 858 2694 1688\nKenncode: 1917
URL:https://www.sozialismus.info/termin/die-pariser-kommune/
LOCATION:Zoom
ORGANIZER;CN="SAV":MAILTO:info@sozialismus.info
END:VEVENT
BEGIN:VEVENT
DTSTART;TZID=Europe/Berlin:20220328T193000
DTEND;TZID=Europe/Berlin:20220328T193000
DTSTAMP:20260424T150807
CREATED:20220328T173000Z
LAST-MODIFIED:20220324T210335Z
UID:10000461-1648495800-1648495800@www.sozialismus.info
SUMMARY:Klimakrise und Krieg: Was haben sie miteinander zu tun?
DESCRIPTION:Was haben eigentlich Kapitalismus\, Imperialismus\, Krieg und Klima miteinander zutun? Mehr als man auf dem ersten Blick vermuten könnte! \nDie Ukraine wird gerade als Schlachtfeld der NATO-Alliierten und der russischen Regierung genutzt. Die Gaspreise steigen durch die Decke und die Energiewende\, weg von fossilen Brennstoffen\, wird nun wichtiger denn je. Doch ist es wirklich das Versäumnis eines einzelnen verrückten Individuums wie Putin\, oder steckt dahinter doch System? Am 28.03.22 klären wir auf! \nDie SAV\, in Kooperation mit FFF-Aktivist*innen aus Brandenburg an der Havel und Nürnberg\, lädt dich ein am 28.03.2022 um 19:30 Uhr über all dies zu diskutieren. Dich erwarten ein informativer Vortrag zum Imperialismus\, und dem daraus resultierenden Krieg\, und zahlreiche Antworten auf die Klimafrage. \nHast du Bock? Then join us! \n🔗 https://us02web.zoom.us/j/88430754643
URL:https://www.sozialismus.info/termin/klimakrise-und-krieg-was-haben-sie-miteinander-zu-tun/
LOCATION:Zoom
ATTACH;FMTTYPE=image/png:https://www.sozialismus.info/wp-content/uploads/2022/03/28.3-KlimaImperialismus-Beitrag-2.png
ORGANIZER;CN="SAV":MAILTO:info@sozialismus.info
END:VEVENT
BEGIN:VEVENT
DTSTART;TZID=Europe/Berlin:20220310T193000
DTEND;TZID=Europe/Berlin:20220310T193000
DTSTAMP:20260424T150807
CREATED:20220306T213143Z
LAST-MODIFIED:20220306T213143Z
UID:10000438-1646940600-1646940600@www.sozialismus.info
SUMMARY:Permanente Revolution
DESCRIPTION:Offenes Online-Treffen von SAV-Mitgliedern mit Referat und Diskussion über Trotzkis Theorie der „Permanenten Revolution“. Gäste sind willkommen! \nLink: https://us02web.zoom.us/j/85826941688?pwd=RXRyNGtUUUVJYlJPVVFIWURGa1dXUT09
URL:https://www.sozialismus.info/termin/permanente-revolution/
LOCATION:Zoom
ORGANIZER;CN="SAV":MAILTO:info@sozialismus.info
END:VEVENT
BEGIN:VEVENT
DTSTART;TZID=Europe/Berlin:20220224T193000
DTEND;TZID=Europe/Berlin:20220224T193000
DTSTAMP:20260424T150807
CREATED:20220202T154655Z
LAST-MODIFIED:20220202T154655Z
UID:10000338-1645731000-1645731000@www.sozialismus.info
SUMMARY:Was ist Imperialismus?
DESCRIPTION:Offenes online-Treffen von SAV Mitgliedern mit Referat und Diskussion zum Thema „Imperialismus“. Gäste sind willkommen! \nhttps://us02web.zoom.us/j/85826941688?pwd=RXRyNGtUUUVJYlJPVVFIWURGa1dXUT09
URL:https://www.sozialismus.info/termin/was-ist-imperialismus/
LOCATION:Zoom
ORGANIZER;CN="SAV":MAILTO:info@sozialismus.info
END:VEVENT
BEGIN:VEVENT
DTSTART;TZID=Europe/Berlin:20220223T193000
DTEND;TZID=Europe/Berlin:20220223T213000
DTSTAMP:20260424T150807
CREATED:20220223T183000Z
LAST-MODIFIED:20220219T080818Z
UID:10000413-1645644600-1645651800@www.sozialismus.info
SUMMARY:Kriegsgefahr in der Ukraine - Eine sozialistische Perspektive
DESCRIPTION:Die imperialistischen Großmächte treiben wechselseitig die Eskalation voran\, angetrieben von imperialistischer Konkurrenz. Mobilmachung von Truppen auf beiden Seiten und Kriegsdrohungen werden von hektischer Diplomatie begleitet. Die Friedensbewegung und die Linke in Deutschland beschränkt sich größtenteils auf Appelle zur Entspannung und Diplomatie\, statt die systemischen Wurzeln der zwischenimperialistischen Konflikte zu thematisieren. Wir schlagen den Aufbau einer internationalen Antikriegsbewegung vor\, die die imperialistische Aggression beider Seiten angreift.
URL:https://www.sozialismus.info/termin/kriegsgefahr-in-der-ukraine-eine-sozialistische-perspektive/
LOCATION:Zoom
CATEGORIES:public
ATTACH;FMTTYPE=image/jpeg:https://www.sozialismus.info/wp-content/uploads/2022/02/ukraine-va.jpg
ORGANIZER;CN="SAV":MAILTO:info@sozialismus.info
END:VEVENT
BEGIN:VEVENT
DTSTART;TZID=Europe/Berlin:20211202T193000
DTEND;TZID=Europe/Berlin:20211202T193000
DTSTAMP:20260424T150807
CREATED:20211129T171822Z
LAST-MODIFIED:20211129T171822Z
UID:10000407-1638473400-1638473400@www.sozialismus.info
SUMMARY:Die russische Revolution
DESCRIPTION:Offenes Treffen mit Referat und Diskussion über die russische Revolution 1917 \nZugangsdaten:\nhttps://us02web.zoom.us/j/85826941688?pwd=RXRyNGtUUUVJYlJPVVFIWURGa1dXUT09\nMeeting-ID: 858 2694 1688\nKenncode: 1917
URL:https://www.sozialismus.info/termin/die-russische-revolution/
LOCATION:Zoom
ORGANIZER;CN="SAV":MAILTO:info@sozialismus.info
END:VEVENT
BEGIN:VEVENT
DTSTART;TZID=Europe/Berlin:20211117T193000
DTEND;TZID=Europe/Berlin:20211117T213000
DTSTAMP:20260424T150807
CREATED:20211117T183000Z
LAST-MODIFIED:20211111T090532Z
UID:10000404-1637177400-1637184600@www.sozialismus.info
SUMMARY:100.000 demonstrieren gegen Blah-blah-blah und Greenwashing zum COP26: Berichte\, Analyse & wie weiter
DESCRIPTION:Beim Klimagipfel COP26 in Glasgow kommen 31.10.-12.11. die Regierungen dieser Welt zusammen: Angeblich\, um über Möglichkeiten und Ziele zur Begrenzung des Klimawandels zu diskutieren. Doch die Ergebnisse der letzten Gipfeltreffen zeigen\, dass sich diese Ziele nicht in die Tat umsetzen\, sondern bloß in heiße Luft auflösen. Die so drängenden Maßnahmen für wirklichen Umweltschutz können wir also von den Herrschenden aus Kapital und Politik nicht erwarten. Im Gegenteil: Die Herrschenden höhlen unter dem Vorwand des Klimaschutzes Arbeiter*innenrechte aus und wälzen die von ihnen produzierte Krise auf die Arbeiter*innen und die Jugend ab.\n100.000 Demonstrierende haben sich an diesem Wochenende dem Protest auf der Straße angeschlossen. Als International Socialist Alternative (ISA) waren wir Teil dieser Proteste und sind mit Sektionen aus Brasilien\, Polen\, Schweden\, Israel/Palästina\, Irland\, Belgien\, den USA\, Hongkong\, England/Wales/Schottland\, Tschechien\, Rumänien\, dem Spanischer Staat\, den Niederlanden\, Österreich und Deutschland angereist.\nIm Rahmen dieser Veranstaltung wollen wir von den Ereignissen des Wochenendes berichten und gemeinsam mit euch darüber diskutieren\, welche nächsten Schritte für die Klimagerechtigkeitsbewegung von Nöten sind.  \nSchaltet euch ein:\nhttps://us02web.zoom.us/j/82441729196\nMeeting-ID: 824 4172 9196
URL:https://www.sozialismus.info/termin/100-000-demonstrieren-gegen-blah-blah-blah-und-greenwashing-zum-cop26-berichte-analyse-wie-weiter/
LOCATION:Zoom
ATTACH;FMTTYPE=image/jpeg:https://www.sozialismus.info/wp-content/uploads/2021/11/IMG_9560-scaled.jpg
ORGANIZER;CN="SAV":MAILTO:info@sozialismus.info
END:VEVENT
BEGIN:VEVENT
DTSTART;TZID=Europe/Berlin:20211104T193000
DTEND;TZID=Europe/Berlin:20211104T213000
DTSTAMP:20260424T150807
CREATED:20211024T054105Z
LAST-MODIFIED:20211024T054105Z
UID:10000385-1636054200-1636061400@www.sozialismus.info
SUMMARY:10 Jahre NSU
DESCRIPTION:Offenes Treffen mit Referat und Diskussion.
URL:https://www.sozialismus.info/termin/10-jahre-nsu/
LOCATION:Zoom
ORGANIZER;CN="SAV":MAILTO:info@sozialismus.info
END:VEVENT
BEGIN:VEVENT
DTSTART;TZID=Europe/Berlin:20211021T193000
DTEND;TZID=Europe/Berlin:20211021T210000
DTSTAMP:20260424T150807
CREATED:20211008T084257Z
LAST-MODIFIED:20211008T084257Z
UID:10000309-1634844600-1634850000@www.sozialismus.info
SUMMARY:Nach dem IPCC\, vor dem COP26. Wo steht das Klima?
DESCRIPTION:https://us02web.zoom.us/j/83852451265?pwd=SXdPSmhLZHlpalFWM2JaV0NaU25aUT09
URL:https://www.sozialismus.info/termin/nach-dem-ipcc-vor-dem-cop26-wo-steht-das-klima/
LOCATION:Zoom
ORGANIZER;CN="SAV":MAILTO:info@sozialismus.info
END:VEVENT
BEGIN:VEVENT
DTSTART;TZID=Europe/Berlin:20211008T180000
DTEND;TZID=Europe/Berlin:20211008T210000
DTSTAMP:20260424T150807
CREATED:20211005T072629Z
LAST-MODIFIED:20211005T072629Z
UID:10000305-1633716000-1633726800@www.sozialismus.info
SUMMARY:Nach der Klatsche: Geht noch was für DIE LINKE?
DESCRIPTION:Das Bundestagswahlergebnis ist eine deutliche Warnung. DIE LINKE ist kurz vor einem Abgrund zum stehen gekommen\, und diskutiert jetzt über den zukünftigen Kurs. Zwei Seiten wollen weiter wie bisher\, nur noch weitergehender: Der regierungsorientierte Flügel ist der Meinung\, dass man sein Programm noch nicht ausreichend aufgegeben hat\, der Wagenknecht-Flügel wiederholt sein Mantra\, dass man sich zu sehr um „skurrile Minderheiten“ gekümmert habe. So sehr sich beide Flügel streiten\, so unrecht haben sie. Beide sind hauptverantwortlich für die Krise der Partei. Wir wollen mit euch die Krise analysieren\, und darüber reden\, wie wir zu einer unangepassten\, kämpferischen und antikapitalistischen LINKEN kommen können. \nDiskussionsveranstaltung der SAV mit Claus Ludwig (Köln) und Anne Engelhardt (Kassel)\, Moderation Sebastian Rave (Bremen). Freitag\, 8.10.\, 18:00 \nZoom-Link: https://us02web.zoom.us/j/86245176714?pwd=amZyUDNsSW5zVVc1blJqUjY1alBwQT09
URL:https://www.sozialismus.info/termin/nach-der-klatsche-geht-noch-was-fuer-die-linke/
LOCATION:Zoom
ATTACH;FMTTYPE=image/jpeg:https://www.sozialismus.info/wp-content/uploads/2021/10/Die_Linke_Flagge_Fahne_12269637584-sw.jpg
ORGANIZER;CN="SAV":MAILTO:info@sozialismus.info
END:VEVENT
END:VCALENDAR