BEGIN:VCALENDAR
VERSION:2.0
PRODID:-//sozialismus.info - ECPv6.15.20//NONSGML v1.0//EN
CALSCALE:GREGORIAN
METHOD:PUBLISH
X-WR-CALNAME:sozialismus.info
X-ORIGINAL-URL:https://www.sozialismus.info
X-WR-CALDESC:Veranstaltungen für sozialismus.info
REFRESH-INTERVAL;VALUE=DURATION:PT1H
X-Robots-Tag:noindex
X-PUBLISHED-TTL:PT1H
BEGIN:VTIMEZONE
TZID:Europe/Berlin
BEGIN:DAYLIGHT
TZOFFSETFROM:+0100
TZOFFSETTO:+0200
TZNAME:CEST
DTSTART:20220327T010000
END:DAYLIGHT
BEGIN:STANDARD
TZOFFSETFROM:+0200
TZOFFSETTO:+0100
TZNAME:CET
DTSTART:20221030T010000
END:STANDARD
BEGIN:DAYLIGHT
TZOFFSETFROM:+0100
TZOFFSETTO:+0200
TZNAME:CEST
DTSTART:20230326T010000
END:DAYLIGHT
BEGIN:STANDARD
TZOFFSETFROM:+0200
TZOFFSETTO:+0100
TZNAME:CET
DTSTART:20231029T010000
END:STANDARD
BEGIN:DAYLIGHT
TZOFFSETFROM:+0100
TZOFFSETTO:+0200
TZNAME:CEST
DTSTART:20240331T010000
END:DAYLIGHT
BEGIN:STANDARD
TZOFFSETFROM:+0200
TZOFFSETTO:+0100
TZNAME:CET
DTSTART:20241027T010000
END:STANDARD
BEGIN:DAYLIGHT
TZOFFSETFROM:+0100
TZOFFSETTO:+0200
TZNAME:CEST
DTSTART:20250330T010000
END:DAYLIGHT
BEGIN:STANDARD
TZOFFSETFROM:+0200
TZOFFSETTO:+0100
TZNAME:CET
DTSTART:20251026T010000
END:STANDARD
END:VTIMEZONE
BEGIN:VEVENT
DTSTART;TZID=Europe/Berlin:20240312T190000
DTEND;TZID=Europe/Berlin:20240312T210000
DTSTAMP:20260424T031456
CREATED:20240311T120457Z
LAST-MODIFIED:20240311T120457Z
UID:10000635-1710270000-1710277200@www.sozialismus.info
SUMMARY:Bremen: Das Frauenbild der AfD: Misogyn\, Transfeindlich\, Rückschrittlich.
DESCRIPTION:Offenes Treffen der SAV Bremen mit Vortrag und anschließender Diskussion \nDer 8. März stand dieses Jahr im Kontext massiver Rückschläge gegen die feministische Bewegung weltweit. Gerade in Deutschland erstarkt die AfD und wird zu einer ernstzunehmenden Kraft in den Parlamenten. Was würde eine Regierungsbeteiligung der AfD für die Rechte von Frauen und Queers realistisch bedeuten und was können wir tun\, um uns dagegenzustellen? \nhttps://www.instagram.com/p/C4VwIggo9UR/
URL:https://www.sozialismus.info/termin/bremen-das-frauenbild-der-afd-misogyn-transfeindlich-rueckschrittlich/
LOCATION:Bremen: Linkstreff Neustadt\, Buntentorsteinweg 109\, Bremen\, 28195
ORGANIZER;CN="SAV Bremen":MAILTO:bremen@sozialismus.info
END:VEVENT
BEGIN:VEVENT
DTSTART;TZID=Europe/Berlin:20240116T190000
DTEND;TZID=Europe/Berlin:20240116T210000
DTSTAMP:20260424T031456
CREATED:20240114T205937Z
LAST-MODIFIED:20240114T210045Z
UID:10000614-1705431600-1705438800@www.sozialismus.info
SUMMARY:Bremen: Weaponized Male Incompetence und unbezahlte Care-Arbeit
DESCRIPTION:Vortrag und Diskussion: Weaponized Male Incompetence und unbezahlte Care-Arbeit\n16. Januar\, 19 Uhr\, Linkstreff Neustadt (Buntentorsteinweg 109) \n“Kannst du mir eine Beschreibung vom Supermarkt machen? Ich finde das Mehl sonst nicht.”\n“Ich kann Windeln einfach nicht so gut wechseln wie du!”\nDies können alles Beispiele von ‘weaponized male incompetence’ sein. \n‘Weaponized male incompetence’ ist eine Form von passiv-aggressivem Verhalten\, bei dem ein Mann absichtlich Aufgaben schlecht ausführt oder so tut\, als wäre es ihm nicht möglich. Diese Taktik wird häufig angewandt\, um sich Verantwortungen zu entziehen und andere zu zwingen\, die Aufgabe zu übernehmen. Das lässt sich vor Allem dem Care-Bereich zuordnen. \nIn heterosexuellen Beziehungen fallen so vermehrt Aufgaben des Alltags auf die Schultern von Frauen. ‚Weaponized male incompetence’ kann somit dazu führen\, dass geschlechtsspezifische Machtverhältnisse und Ungleichheiten im privaten Bereich reproduziert werden und sich verfestigen. So führen weiblich sozialisierte Menschen\, vor allem Frauen\, unbezahlte Care-Arbeit zu höheren Maße aus. Doch wie lässt sich das im Kontext des Kapitalismus einordnen und wie geht man diese Problematik an? \nhttps://www.instagram.com/p/C2GCa19oRMq/
URL:https://www.sozialismus.info/termin/bremen-weaponized-male-incompetence-und-unbezahlte-care-arbeit/
LOCATION:Bremen: Linkstreff Neustadt\, Buntentorsteinweg 109\, Bremen\, 28195
END:VEVENT
BEGIN:VEVENT
DTSTART;TZID=Europe/Berlin:20231128T190000
DTEND;TZID=Europe/Berlin:20231128T210000
DTSTAMP:20260424T031456
CREATED:20231028T184407Z
LAST-MODIFIED:20231028T184407Z
UID:10000593-1701198000-1701205200@www.sozialismus.info
SUMMARY:ROSA Bremen: Vorstellung der neuen Queerstellen-Broschüre
DESCRIPTION:Wir haben eine neue Broschüre zu queeren Themen erstellt. Wir wollen diese vorstellen und über einige Texte im Detail diskutieren. \nTreffen von ROSA und SAV Bremen. Kommt vorbei und diskutiert mit. Interessierte sind willkommen!
URL:https://www.sozialismus.info/termin/rosa-bremen-vorstellung-der-neuen-queerstellen-broschuere/
LOCATION:Bremen: Linkstreff Neustadt\, Buntentorsteinweg 109\, Bremen\, 28195
END:VEVENT
BEGIN:VEVENT
DTSTART;TZID=Europe/Berlin:20231017T183000
DTEND;TZID=Europe/Berlin:20231017T203000
DTSTAMP:20260424T031456
CREATED:20230905T035556Z
LAST-MODIFIED:20230905T035556Z
UID:10000577-1697567400-1697574600@www.sozialismus.info
SUMMARY:ROSA Bremen: Nordic Model | Das nordische Modell
DESCRIPTION:Treffen der Ortsgruppe der SAV Bremen mit Referat und Diskussion. Interessierte sind willkommen! | Meeting of the Bremen branch of Socialist Alternative. Anyone interested in our ideas is welcome to join! \nAt this meeting we’ll be discussing the Nordic Model. | Wir sprechen über das Nordische Modell.
URL:https://www.sozialismus.info/termin/rosa-bremen-nordic-model-das-nordische-modell/
LOCATION:Bremen: Linkstreff Neustadt\, Buntentorsteinweg 109\, Bremen\, 28195
END:VEVENT
BEGIN:VEVENT
DTSTART;TZID=Europe/Berlin:20230919T183000
DTEND;TZID=Europe/Berlin:20230919T203000
DTSTAMP:20260424T031456
CREATED:20230710T000823Z
LAST-MODIFIED:20230710T000823Z
UID:10000559-1695148200-1695155400@www.sozialismus.info
SUMMARY:ROSA Bremen: Pride is a Protest
DESCRIPTION:ROSA-Treffen in Bremen. Referat mit anschließender Diskussion. Interessierte sind herzlich willkommen!
URL:https://www.sozialismus.info/termin/rosa-bremen-pride-is-a-protest/
LOCATION:Bremen: Linkstreff Neustadt\, Buntentorsteinweg 109\, Bremen\, 28195
END:VEVENT
BEGIN:VEVENT
DTSTART;TZID=Europe/Berlin:20230815T183000
DTEND;TZID=Europe/Berlin:20230815T203000
DTSTAMP:20260424T031456
CREATED:20230710T000312Z
LAST-MODIFIED:20230710T000350Z
UID:10000558-1692124200-1692131400@www.sozialismus.info
SUMMARY:ROSA Bremen: Kampf für die Rechte von trans Personen
DESCRIPTION:ROSA-Treffen in Bremen. Referat mit anschließender Diskussion. Interessierte sind herzlich willkommen!
URL:https://www.sozialismus.info/termin/bremen-kampf-fuer-die-rechte-von-trans-personen/
LOCATION:Bremen: Linkstreff Neustadt\, Buntentorsteinweg 109\, Bremen\, 28195
END:VEVENT
BEGIN:VEVENT
DTSTART;TZID=Europe/Berlin:20230718T183000
DTEND;TZID=Europe/Berlin:20230718T203000
DTSTAMP:20260424T031456
CREATED:20230709T235647Z
LAST-MODIFIED:20230710T000442Z
UID:10000557-1689705000-1689712200@www.sozialismus.info
SUMMARY:ROSA Bremen: Intersektionalismus
DESCRIPTION:ROSA-Treffen in Bremen. Referat mit anschließender Diskussion. Interessierte sind herzlich willkommen!
URL:https://www.sozialismus.info/termin/bremen-intersektionalismus/
LOCATION:Bremen: Linkstreff Neustadt\, Buntentorsteinweg 109\, Bremen\, 28195
END:VEVENT
BEGIN:VEVENT
DTSTART;TZID=Europe/Berlin:20230418T190000
DTEND;TZID=Europe/Berlin:20230418T190000
DTSTAMP:20260424T031456
CREATED:20230414T093718Z
LAST-MODIFIED:20230414T101657Z
UID:10000552-1681844400-1681844400@www.sozialismus.info
SUMMARY:Bremen: Sexindustrie & Prostitution
DESCRIPTION:… und warum sie nichts mit Selbstbestimmung zu tun haben \nEine sozialistisch-feministische Perspektive \nKommenden Dienstag wird es im Linkstreff Buntentorsteinweg 109 einen Vortrag von uns zum Thema Sexundustrie und Prostitution geben. Uns ist dabei eine sozialistisch-feministische Perspektive wichtig\, die sich klar von manchen populären Strömungen innerhalb eines Teils der linken Bubble abgrenzt – denn Sexarbeit ist keine Arbeit wie jede andere\, ist entmenschlichend\, objektifizierend und hat in den meisten Fällen auch wenig mit Sex und Konsens zu tun\, dafür aber sehr viel mit den kapitalistischen Verhältnissen und einer strukturellen Unterdrückung von PoC\, Frauen\, queeren und transgeschlechtlichen Personen. Von der Straßenprostitution über Pornografie bis zu OnlyFans… Wenn ihr interessiert seid\, schaut am Dienstag um 19:00 vorbei.
URL:https://www.sozialismus.info/termin/sexindustrie-prostitution/
LOCATION:Bremen: Linkstreff Neustadt\, Buntentorsteinweg 109\, Bremen\, 28195
ORGANIZER;CN="SAV Bremen":MAILTO:bremen@sozialismus.info
END:VEVENT
END:VCALENDAR