BEGIN:VCALENDAR
VERSION:2.0
PRODID:-//sozialismus.info - ECPv6.15.20//NONSGML v1.0//EN
CALSCALE:GREGORIAN
METHOD:PUBLISH
X-ORIGINAL-URL:https://www.sozialismus.info
X-WR-CALDESC:Veranstaltungen für sozialismus.info
REFRESH-INTERVAL;VALUE=DURATION:PT1H
X-Robots-Tag:noindex
X-PUBLISHED-TTL:PT1H
BEGIN:VTIMEZONE
TZID:Europe/Berlin
BEGIN:DAYLIGHT
TZOFFSETFROM:+0100
TZOFFSETTO:+0200
TZNAME:CEST
DTSTART:20210328T010000
END:DAYLIGHT
BEGIN:STANDARD
TZOFFSETFROM:+0200
TZOFFSETTO:+0100
TZNAME:CET
DTSTART:20211031T010000
END:STANDARD
BEGIN:DAYLIGHT
TZOFFSETFROM:+0100
TZOFFSETTO:+0200
TZNAME:CEST
DTSTART:20220327T010000
END:DAYLIGHT
BEGIN:STANDARD
TZOFFSETFROM:+0200
TZOFFSETTO:+0100
TZNAME:CET
DTSTART:20221030T010000
END:STANDARD
BEGIN:DAYLIGHT
TZOFFSETFROM:+0100
TZOFFSETTO:+0200
TZNAME:CEST
DTSTART:20230326T010000
END:DAYLIGHT
BEGIN:STANDARD
TZOFFSETFROM:+0200
TZOFFSETTO:+0100
TZNAME:CET
DTSTART:20231029T010000
END:STANDARD
END:VTIMEZONE
BEGIN:VEVENT
DTSTART;TZID=Europe/Berlin:20221022T120000
DTEND;TZID=Europe/Berlin:20221022T120000
DTSTAMP:20260425T151308
CREATED:20221002T083642Z
LAST-MODIFIED:20221010T061758Z
UID:10000497-1666440000-1666440000@www.sozialismus.info
SUMMARY:Demo: Solidarisch durch die Krise – soziale Sicherheit schaffen und fossile Abhängigkeiten beenden
DESCRIPTION:Für den 22. Oktober um 12 Uhr plant ein Bündnis aus Verdi\, Parität\, attac\, BUND\, Finanzwende und Campact regionale Großdemonstrationen in sechs Städten: in Berlin\, Dresden\, Frankfurt am Main\, Düsseldorf\, Stuttgart und Hannover. \nMehr Infos zu Orten\, Demorouten usw. folgen auf: https://www.solidarischer-herbst.de/
URL:https://www.sozialismus.info/termin/solidarischer-herbst-solidarisch-durch-die-krise-soziale-sicherheit-schaffen-und-fossile-abhaengigkeiten-beenden/
LOCATION:deutschlandweit
ATTACH;FMTTYPE=image/png:https://www.sozialismus.info/wp-content/uploads/2022/10/solidarischer-herbst.png
END:VEVENT
END:VCALENDAR