BEGIN:VCALENDAR
VERSION:2.0
PRODID:-//sozialismus.info - ECPv6.15.20//NONSGML v1.0//EN
CALSCALE:GREGORIAN
METHOD:PUBLISH
X-ORIGINAL-URL:https://www.sozialismus.info
X-WR-CALDESC:Veranstaltungen für sozialismus.info
REFRESH-INTERVAL;VALUE=DURATION:PT1H
X-Robots-Tag:noindex
X-PUBLISHED-TTL:PT1H
BEGIN:VTIMEZONE
TZID:Europe/Berlin
BEGIN:DAYLIGHT
TZOFFSETFROM:+0100
TZOFFSETTO:+0200
TZNAME:CEST
DTSTART:20230326T010000
END:DAYLIGHT
BEGIN:STANDARD
TZOFFSETFROM:+0200
TZOFFSETTO:+0100
TZNAME:CET
DTSTART:20231029T010000
END:STANDARD
BEGIN:DAYLIGHT
TZOFFSETFROM:+0100
TZOFFSETTO:+0200
TZNAME:CEST
DTSTART:20240331T010000
END:DAYLIGHT
BEGIN:STANDARD
TZOFFSETFROM:+0200
TZOFFSETTO:+0100
TZNAME:CET
DTSTART:20241027T010000
END:STANDARD
BEGIN:DAYLIGHT
TZOFFSETFROM:+0100
TZOFFSETTO:+0200
TZNAME:CEST
DTSTART:20250330T010000
END:DAYLIGHT
BEGIN:STANDARD
TZOFFSETFROM:+0200
TZOFFSETTO:+0100
TZNAME:CET
DTSTART:20251026T010000
END:STANDARD
END:VTIMEZONE
BEGIN:VEVENT
DTSTART;TZID=Europe/Berlin:20240313T190000
DTEND;TZID=Europe/Berlin:20240313T210000
DTSTAMP:20260421T155741
CREATED:20240309T050800Z
LAST-MODIFIED:20240312T065023Z
UID:10000632-1710356400-1710363600@www.sozialismus.info
SUMMARY:Berlin: „Sexistische Gewalt hat System - Rechtsruck und antifeministischen Backlash stoppen - Kapitalismus abschaffen!“
DESCRIPTION:ROSA und die SAV Berlin laden euch herzlich zur Veranstaltung „Sexistische Gewalt hat System – Rechtsruck und antifeministischen Backlash stoppen – Kapitalismus abschaffen!“ ein\, am Mittwoch um 19 Uhr in der Reuterstr. 52 (Nähe U Hermannplatz). \nUm den Rechtsruck und den antifeministischen Backlash stoppen zu können\, brauchen wir eine Bewegung\, die der AfD und anderen reaktionären Kräften den Nährboden entzieht. Die gegen staatlichen Rassismus und Sexismus kämpft und für grundlegende soziale Verbesserungen.\nWir zeigen solidarische Alternativen auf: Wenn reaktionäre Abtreibungsgegner*innen zum “Marsch für das Leben” aufrufen\, setzen wir ihnen eine Bewegung für das Recht auf Abtreibung und eine wirkliche Wahlfreiheit entgegen. Für kostenlose\, zugängliche und legale Schwangerschaftsabbrüche. Für kostenlose Verhütungs- und Menstruationsprodukte für alle und für die Möglichkeit\, Kinder zu bekommen ohne Armutsrisiko.\nWenn die AfD im Europawahlkampf ihre rassistische und antifeministische Propaganda fährt\, machen wir klar\, dass nicht Geflüchtete für Wohnungsnot\, wachsende soziale Ungerechtigkeit und Bildungskrise verantwortlich sind\, sondern die pro-kapitalistischen Parteien\, Konzernchefs und ein System was auf Profitmaximierung aufbaut. Dem patriarchalen Familienbild und der queerfeindlichen Hetze der AfD\, setzen wir die Vergesellschaftung von Pflege- und Carearbeit durch ein kostenloses\, umfängliches und öffentliches Gesundheits- und Bildungssystem entgegen. Statt Gesetze\, welche die Hetero-Kleinfamilie und sexistische Rollenverteilung fördern\, stehen wir für die Gleichbehandlung aller Lebenrealiäten\, bezahlbaren Wohnraum und gutbezahlte Jobs für alle. \nIm Kapitalismus zählt nur der Profit – deshalb wird er immer wieder in Konflikt mit den Bedürfnissen von Mensch und Natur geraten. Er braucht Spaltung in Form von verschiedenen Unterdrückungen. Wir verbinden den Kampf gegen Sexismus\, Rassismus\, Rechtsruck\, Krieg und soziale Ungerechtigkeit daher mit dem Kampf für eine Gesellschaft\, in der im Interesse von Mensch und Natur\, demokratisch von unten entschieden wird\, was und wie wir produzieren und leben wollen: eine sozialistische Gesellschaft. \nDafür müssen wir uns organisieren. Komm vorbei und werde mit uns aktiv!
URL:https://www.sozialismus.info/termin/berlin-sexistische-gewalt-hat-system-kapitalismus-abschaffen/
LOCATION:Berlin: Verein iranischer Flüchtlinge\, Reuterstraße 52\, Berlin Neukölln\, 12047
ATTACH;FMTTYPE=image/jpeg:https://www.sozialismus.info/wp-content/uploads/2024/03/Sharepic_VA_13.3-jpg.webp
ORGANIZER;CN="SAV Berlin":MAILTO:berlin@sozialismus.info
END:VEVENT
END:VCALENDAR