BEGIN:VCALENDAR
VERSION:2.0
PRODID:-//sozialismus.info - ECPv6.15.20//NONSGML v1.0//EN
CALSCALE:GREGORIAN
METHOD:PUBLISH
X-ORIGINAL-URL:https://www.sozialismus.info
X-WR-CALDESC:Veranstaltungen für sozialismus.info
REFRESH-INTERVAL;VALUE=DURATION:PT1H
X-Robots-Tag:noindex
X-PUBLISHED-TTL:PT1H
BEGIN:VTIMEZONE
TZID:Europe/Berlin
BEGIN:DAYLIGHT
TZOFFSETFROM:+0100
TZOFFSETTO:+0200
TZNAME:CEST
DTSTART:20220327T010000
END:DAYLIGHT
BEGIN:STANDARD
TZOFFSETFROM:+0200
TZOFFSETTO:+0100
TZNAME:CET
DTSTART:20221030T010000
END:STANDARD
BEGIN:DAYLIGHT
TZOFFSETFROM:+0100
TZOFFSETTO:+0200
TZNAME:CEST
DTSTART:20230326T010000
END:DAYLIGHT
BEGIN:STANDARD
TZOFFSETFROM:+0200
TZOFFSETTO:+0100
TZNAME:CET
DTSTART:20231029T010000
END:STANDARD
BEGIN:DAYLIGHT
TZOFFSETFROM:+0100
TZOFFSETTO:+0200
TZNAME:CEST
DTSTART:20240331T010000
END:DAYLIGHT
BEGIN:STANDARD
TZOFFSETFROM:+0200
TZOFFSETTO:+0100
TZNAME:CET
DTSTART:20241027T010000
END:STANDARD
END:VTIMEZONE
BEGIN:VEVENT
DTSTART;TZID=Europe/Berlin:20231104T140000
DTEND;TZID=Europe/Berlin:20231104T140000
DTSTAMP:20260423T085130
CREATED:20231028T183938Z
LAST-MODIFIED:20231028T183938Z
UID:10000501-1699106400-1699106400@www.sozialismus.info
SUMMARY:Berlin: Großdemo - Free Plaestine will not be cancelled: Stoppt den Genozid in Gaza! Nein zu den Demo-Verboten!
DESCRIPTION:Unter diese Motto mobilisert ein Bündnis verschiedener Organisationen und Gruppe für Samstag\, den 4.11.2023 nach Berlin. Auch wir wollen daran teilnehmen und gegen den Krieg gegen Gaza und die weitere Eskalation in Israel-Palästina demonstrieren und auch gegen die Kriminialisierung/Repression von Solidarität mit Palästineser*innen hier in Deutschland. \nSolidarität mit den Arbeiter*innen und Jugendlichen\, mit den israelischen und palästinensischen Menschen auf beiden Seiten des Zauns\, anstatt mit der Hamas oder der israelischen Regierung und Armee!
URL:https://www.sozialismus.info/termin/berlin-grossdemo-free-plaestine-will-not-be-cancelled-stoppt-den-genozid-in-gaza-nein-zu-den-demo-verboten/
LOCATION:Neptunbrunnen\, Alexanderplatz\, Berlin\, Alexanderplatz\, Berlin\, Berlin\, Deutschland
ATTACH;FMTTYPE=image/jpeg:https://www.sozialismus.info/wp-content/uploads/2023/10/photo_2023-10-28-20.29.00-jpeg.webp
END:VEVENT
BEGIN:VEVENT
DTSTART;TZID=Europe/Berlin:20231106T190000
DTEND;TZID=Europe/Berlin:20231106T210000
DTSTAMP:20260423T085130
CREATED:20231028T185740Z
LAST-MODIFIED:20231028T185740Z
UID:10000594-1699297200-1699304400@www.sozialismus.info
SUMMARY:SAV-Onlineveranstaltung: Gemeinsamer Kampf für ein Ende von Besatzung\, Blockade und Unterdrückung
DESCRIPTION:6.11.2023 um 19 Uhr via Zoom \nhttps://us02web.zoom.us/j/89160462496?pwd=YVdlUVNwcHgrZXYxc3N0VVBoWlcwdz09 \nMeeting-ID: 891 6046 2496\nKenncode: 623297 \nSchnelleinwahl mobil\n+496950500951\,\,89160462496# \nDetails folgen hier: https://www.sozialismus.info/gaza/
URL:https://www.sozialismus.info/termin/sav-onlineveranstaltung-gemeinsamer-kampf-fuer-ein-ende-von-besatzung-blockade-und-unterdrueckung/
LOCATION:Zoom
ORGANIZER;CN="SAV":MAILTO:info@sozialismus.info
END:VEVENT
BEGIN:VEVENT
DTSTART;TZID=Europe/Berlin:20231115T190000
DTEND;TZID=Europe/Berlin:20231115T210000
DTSTAMP:20260423T085130
CREATED:20231112T190319Z
LAST-MODIFIED:20231112T190319Z
UID:10000600-1700074800-1700082000@www.sozialismus.info
SUMMARY:Köln: Ist Solidarität mit den Palästinenser*innen antisemitisch?
DESCRIPTION:Input & Diskussion mit Claus Ludwig\, SAV & Autor des Buches „Antisemitisch?!: Gegen antideutsche Mythen und die Umdeutung des Begriffs“ (2019) \nGreat Thunberg\, der Mainzer Bundesligaspieler Anwar El Gahzi\, die Rapperin Nura\, Schüler*innen\, die in der Schule ihre Meinung sagen\, Menschen\, die eine Palästina-Fahne tragen – sie alle werden unter den Verdacht des Antisemitismus gestellt. Viele Medien übernehmen ohne jedes journalistisches Hinterfragen Sprache und Narrative der Regierenden. Von BILD über Spiegel bis zur Tagesschau\, von den Grünen bis zur AfD singen alle dasselbe Lied vom „importierten Antisemitismus“\, befördern damit RAssismus und verharmlosen den mörderischen Antisemitismus der deutschen Nazis. \nWir diskutieren… \n… über den Unterschied zwischen Kritik am Staat Israel und Antisemitismus \n…. über die Bedeutung von Slogans wie „Free Palestine“ und möglche Lösungen\, welche die Rechte aller Menschen in der Region sichern \n… über die Geschichte des palästinensischen Kampfes für Selbstbestimmung\, der aus weitaus mehr als der Hamas besteht \n… über die Situation an Schulen\, Unis\, in Betrieben und Stadtteilen in Deutschland und wie wir damit umgehen können\, dass demokratische Rechte attackiert werden \n… und über andere Fragen\, die ihr zu diesem Thema habt.
URL:https://www.sozialismus.info/termin/koeln-ist-solidaritaet-mit-den-palaestinenserinnen-antisemitisch/
LOCATION:Köln: Allerweltshaus Ehrenfeld\, Geisselstraße 3-5\, Köln\, NRW\, 50825\, Deutschland
ATTACH;FMTTYPE=image/jpeg:https://www.sozialismus.info/wp-content/uploads/2023/11/photo_2023-11-12-19.46.35-jpeg.webp
ORGANIZER;CN="SAV K%C3%B6ln":MAILTO:koelnsav@gmail.com
END:VEVENT
BEGIN:VEVENT
DTSTART;TZID=Europe/Berlin:20231115T190000
DTEND;TZID=Europe/Berlin:20231115T210000
DTSTAMP:20260423T085130
CREATED:20231113T214850Z
LAST-MODIFIED:20231113T214850Z
UID:10000601-1700074800-1700082000@www.sozialismus.info
SUMMARY:Berlin: Warum unsere Solidarität mit Palästina nicht antisemitisch ist
DESCRIPTION:Ausgerechnet Aiwanger redet von „importiertem Antisemitismus“\, Habeck warnt vor aufenthaltsrechtlichen Konsequenzen bei antisemitischen Äußerungen und sogar Greta Thunberg wird vorgeworfen\, Antisemitin zu sein. Wir wollen Argumente dagegen liefern und Vorschläge für die Bewegung geben\, wie mit solchen Vorwürfen umgegangen werden kann. \nWenn ihr Interesse habt mit uns zu diskutieren\, kommt am Mittwoch um 19:00 Uhr in den Verein Iranischer Flüchtlinge in der Reuterstraße 52.
URL:https://www.sozialismus.info/termin/berlin-warum-unsere-solidaritaet-mit-palaestina-nicht-antisemitisch-ist/
LOCATION:Berlin: Verein iranischer Flüchtlinge\, Reuterstraße 52\, Berlin Neukölln\, 12047
ORGANIZER;CN="SAV Berlin":MAILTO:berlin@sozialismus.info
END:VEVENT
END:VCALENDAR