BEGIN:VCALENDAR
VERSION:2.0
PRODID:-//sozialismus.info - ECPv6.15.20//NONSGML v1.0//EN
CALSCALE:GREGORIAN
METHOD:PUBLISH
X-ORIGINAL-URL:https://www.sozialismus.info
X-WR-CALDESC:Veranstaltungen für sozialismus.info
REFRESH-INTERVAL;VALUE=DURATION:PT1H
X-Robots-Tag:noindex
X-PUBLISHED-TTL:PT1H
BEGIN:VTIMEZONE
TZID:Europe/Berlin
BEGIN:DAYLIGHT
TZOFFSETFROM:+0100
TZOFFSETTO:+0200
TZNAME:CEST
DTSTART:20220327T010000
END:DAYLIGHT
BEGIN:STANDARD
TZOFFSETFROM:+0200
TZOFFSETTO:+0100
TZNAME:CET
DTSTART:20221030T010000
END:STANDARD
BEGIN:DAYLIGHT
TZOFFSETFROM:+0100
TZOFFSETTO:+0200
TZNAME:CEST
DTSTART:20230326T010000
END:DAYLIGHT
BEGIN:STANDARD
TZOFFSETFROM:+0200
TZOFFSETTO:+0100
TZNAME:CET
DTSTART:20231029T010000
END:STANDARD
BEGIN:DAYLIGHT
TZOFFSETFROM:+0100
TZOFFSETTO:+0200
TZNAME:CEST
DTSTART:20240331T010000
END:DAYLIGHT
BEGIN:STANDARD
TZOFFSETFROM:+0200
TZOFFSETTO:+0100
TZNAME:CET
DTSTART:20241027T010000
END:STANDARD
END:VTIMEZONE
BEGIN:VEVENT
DTSTART;VALUE=DATE:20230916
DTEND;VALUE=DATE:20230917
DTSTAMP:20260423T081534
CREATED:20230912T230944Z
LAST-MODIFIED:20230912T230944Z
UID:10000583-1694822400-1694908799@www.sozialismus.info
SUMMARY:Gegen christliche Fundis und rechte Ideologie - Proteste gegen den „Marsch für das Leben“ in Berlin und Köln
DESCRIPTION:Lasst uns am 16.9. gemeinsam den christlichen Fundamentalist*innen und Rechtsextremen in Köln und Berlin zeigen\, dass sie mit ihrer frauen- und queerfeindlichen Propaganda nicht willkommen sind! \nIn Köln: 13 Uhr Heumarkt \nIn Berlin: 12 Uhr Brandenburger Tor/Pariser Platz \nGegen christliche Fundis und rechte Ideologie: Der „Marsch für das Leben“ ist ein Marsch gegen Frauen
URL:https://www.sozialismus.info/termin/gegen-christliche-fundis-und-rechte-ideologie-proteste-gegen-den-marsch-fuer-das-leben-in-berlin-und-koeln/
END:VEVENT
END:VCALENDAR