BEGIN:VCALENDAR
VERSION:2.0
PRODID:-//sozialismus.info - ECPv6.15.20//NONSGML v1.0//EN
CALSCALE:GREGORIAN
METHOD:PUBLISH
X-ORIGINAL-URL:https://www.sozialismus.info
X-WR-CALDESC:Veranstaltungen für sozialismus.info
REFRESH-INTERVAL;VALUE=DURATION:PT1H
X-Robots-Tag:noindex
X-PUBLISHED-TTL:PT1H
BEGIN:VTIMEZONE
TZID:Europe/Berlin
BEGIN:DAYLIGHT
TZOFFSETFROM:+0100
TZOFFSETTO:+0200
TZNAME:CEST
DTSTART:20230326T010000
END:DAYLIGHT
BEGIN:STANDARD
TZOFFSETFROM:+0200
TZOFFSETTO:+0100
TZNAME:CET
DTSTART:20231029T010000
END:STANDARD
BEGIN:DAYLIGHT
TZOFFSETFROM:+0100
TZOFFSETTO:+0200
TZNAME:CEST
DTSTART:20240331T010000
END:DAYLIGHT
BEGIN:STANDARD
TZOFFSETFROM:+0200
TZOFFSETTO:+0100
TZNAME:CET
DTSTART:20241027T010000
END:STANDARD
BEGIN:DAYLIGHT
TZOFFSETFROM:+0100
TZOFFSETTO:+0200
TZNAME:CEST
DTSTART:20250330T010000
END:DAYLIGHT
BEGIN:STANDARD
TZOFFSETFROM:+0200
TZOFFSETTO:+0100
TZNAME:CET
DTSTART:20251026T010000
END:STANDARD
END:VTIMEZONE
BEGIN:VEVENT
DTSTART;TZID=Europe/Berlin:20240116T190000
DTEND;TZID=Europe/Berlin:20240116T210000
DTSTAMP:20260425T184701
CREATED:20240114T205937Z
LAST-MODIFIED:20240114T210045Z
UID:10000614-1705431600-1705438800@www.sozialismus.info
SUMMARY:Bremen: Weaponized Male Incompetence und unbezahlte Care-Arbeit
DESCRIPTION:Vortrag und Diskussion: Weaponized Male Incompetence und unbezahlte Care-Arbeit\n16. Januar\, 19 Uhr\, Linkstreff Neustadt (Buntentorsteinweg 109) \n“Kannst du mir eine Beschreibung vom Supermarkt machen? Ich finde das Mehl sonst nicht.”\n“Ich kann Windeln einfach nicht so gut wechseln wie du!”\nDies können alles Beispiele von ‘weaponized male incompetence’ sein. \n‘Weaponized male incompetence’ ist eine Form von passiv-aggressivem Verhalten\, bei dem ein Mann absichtlich Aufgaben schlecht ausführt oder so tut\, als wäre es ihm nicht möglich. Diese Taktik wird häufig angewandt\, um sich Verantwortungen zu entziehen und andere zu zwingen\, die Aufgabe zu übernehmen. Das lässt sich vor Allem dem Care-Bereich zuordnen. \nIn heterosexuellen Beziehungen fallen so vermehrt Aufgaben des Alltags auf die Schultern von Frauen. ‚Weaponized male incompetence’ kann somit dazu führen\, dass geschlechtsspezifische Machtverhältnisse und Ungleichheiten im privaten Bereich reproduziert werden und sich verfestigen. So führen weiblich sozialisierte Menschen\, vor allem Frauen\, unbezahlte Care-Arbeit zu höheren Maße aus. Doch wie lässt sich das im Kontext des Kapitalismus einordnen und wie geht man diese Problematik an? \nhttps://www.instagram.com/p/C2GCa19oRMq/
URL:https://www.sozialismus.info/termin/bremen-weaponized-male-incompetence-und-unbezahlte-care-arbeit/
LOCATION:Bremen: Linkstreff Neustadt\, Buntentorsteinweg 109\, Bremen\, 28195
END:VEVENT
END:VCALENDAR