BEGIN:VCALENDAR
VERSION:2.0
PRODID:-//sozialismus.info - ECPv6.15.20//NONSGML v1.0//EN
CALSCALE:GREGORIAN
METHOD:PUBLISH
X-WR-CALNAME:sozialismus.info
X-ORIGINAL-URL:https://www.sozialismus.info
X-WR-CALDESC:Veranstaltungen für sozialismus.info
REFRESH-INTERVAL;VALUE=DURATION:PT1H
X-Robots-Tag:noindex
X-PUBLISHED-TTL:PT1H
BEGIN:VTIMEZONE
TZID:Europe/Berlin
BEGIN:DAYLIGHT
TZOFFSETFROM:+0100
TZOFFSETTO:+0200
TZNAME:CEST
DTSTART:20210328T010000
END:DAYLIGHT
BEGIN:STANDARD
TZOFFSETFROM:+0200
TZOFFSETTO:+0100
TZNAME:CET
DTSTART:20211031T010000
END:STANDARD
BEGIN:DAYLIGHT
TZOFFSETFROM:+0100
TZOFFSETTO:+0200
TZNAME:CEST
DTSTART:20220327T010000
END:DAYLIGHT
BEGIN:STANDARD
TZOFFSETFROM:+0200
TZOFFSETTO:+0100
TZNAME:CET
DTSTART:20221030T010000
END:STANDARD
BEGIN:DAYLIGHT
TZOFFSETFROM:+0100
TZOFFSETTO:+0200
TZNAME:CEST
DTSTART:20230326T010000
END:DAYLIGHT
BEGIN:STANDARD
TZOFFSETFROM:+0200
TZOFFSETTO:+0100
TZNAME:CET
DTSTART:20231029T010000
END:STANDARD
END:VTIMEZONE
BEGIN:VEVENT
DTSTART;TZID=Europe/Berlin:20220529T143000
DTEND;TZID=Europe/Berlin:20220529T143000
DTSTAMP:20260419T215615
CREATED:20220520T130504Z
LAST-MODIFIED:20220520T130755Z
UID:10000474-1653834600-1653834600@www.sozialismus.info
SUMMARY:Demo „Soziales statt Aufrüstung“
DESCRIPTION:Demonstration anlässlich der Abstimmung über ein 100-Milliarden-Sondervermögen für die Bundeswehr \nSonntag\, 29. Mai 14:30 Uhr | Startpunkt: Hermannplatz (U7/U8)\, Endpunkt: Willy-Brandt-Haus \nKommt mit auf die Straße gegen die Aufrüstug der Bundeswehr. Wir fordern stattdessen 100 Milliarden für Gesundheit\, Bildung\, Klima und Soziales! \nHier könnt ihr den kompletten Aufruf lesen\, den wir als SAV mit unterstützen: https://sozialesstattaufruestung.wordpress.com/
URL:https://www.sozialismus.info/termin/demo-soziales-statt-aufruestung/
LOCATION:Berlin: Hermannplatz\, Hermannplatz\, Berlin\, 10967\, Deutschland
END:VEVENT
END:VCALENDAR