BEGIN:VCALENDAR
VERSION:2.0
PRODID:-//sozialismus.info - ECPv6.15.20//NONSGML v1.0//EN
CALSCALE:GREGORIAN
METHOD:PUBLISH
X-WR-CALNAME:sozialismus.info
X-ORIGINAL-URL:https://www.sozialismus.info
X-WR-CALDESC:Veranstaltungen für sozialismus.info
REFRESH-INTERVAL;VALUE=DURATION:PT1H
X-Robots-Tag:noindex
X-PUBLISHED-TTL:PT1H
BEGIN:VTIMEZONE
TZID:Europe/Berlin
BEGIN:DAYLIGHT
TZOFFSETFROM:+0100
TZOFFSETTO:+0200
TZNAME:CEST
DTSTART:20220327T010000
END:DAYLIGHT
BEGIN:STANDARD
TZOFFSETFROM:+0200
TZOFFSETTO:+0100
TZNAME:CET
DTSTART:20221030T010000
END:STANDARD
BEGIN:DAYLIGHT
TZOFFSETFROM:+0100
TZOFFSETTO:+0200
TZNAME:CEST
DTSTART:20230326T010000
END:DAYLIGHT
BEGIN:STANDARD
TZOFFSETFROM:+0200
TZOFFSETTO:+0100
TZNAME:CET
DTSTART:20231029T010000
END:STANDARD
BEGIN:DAYLIGHT
TZOFFSETFROM:+0100
TZOFFSETTO:+0200
TZNAME:CEST
DTSTART:20240331T010000
END:DAYLIGHT
BEGIN:STANDARD
TZOFFSETFROM:+0200
TZOFFSETTO:+0100
TZNAME:CET
DTSTART:20241027T010000
END:STANDARD
END:VTIMEZONE
BEGIN:VEVENT
DTSTART;TZID=Europe/Berlin:20230521T130000
DTEND;TZID=Europe/Berlin:20230521T170000
DTSTAMP:20260425T122450
CREATED:20230515T142550Z
LAST-MODIFIED:20230520T172510Z
UID:10000449-1684674000-1684688400@www.sozialismus.info
SUMMARY:Feminismus im Park Bremerhaven
DESCRIPTION: 
URL:https://www.sozialismus.info/termin/fenimismus-im-park-bremerhaven/
LOCATION:Bürgerpark Bremerhaven\, Bismarckstraße\, Bremerhaven\, Deutschland
ORGANIZER;CN="SAV Bremerhaven":MAILTO:bremerhaven@sozialismus.info
END:VEVENT
END:VCALENDAR