BEGIN:VCALENDAR
VERSION:2.0
PRODID:-//sozialismus.info - ECPv6.15.20//NONSGML v1.0//EN
CALSCALE:GREGORIAN
METHOD:PUBLISH
X-ORIGINAL-URL:https://www.sozialismus.info
X-WR-CALDESC:Veranstaltungen für sozialismus.info
REFRESH-INTERVAL;VALUE=DURATION:PT1H
X-Robots-Tag:noindex
X-PUBLISHED-TTL:PT1H
BEGIN:VTIMEZONE
TZID:Europe/Berlin
BEGIN:DAYLIGHT
TZOFFSETFROM:+0100
TZOFFSETTO:+0200
TZNAME:CEST
DTSTART:20200329T010000
END:DAYLIGHT
BEGIN:STANDARD
TZOFFSETFROM:+0200
TZOFFSETTO:+0100
TZNAME:CET
DTSTART:20201025T010000
END:STANDARD
BEGIN:DAYLIGHT
TZOFFSETFROM:+0100
TZOFFSETTO:+0200
TZNAME:CEST
DTSTART:20210328T010000
END:DAYLIGHT
BEGIN:STANDARD
TZOFFSETFROM:+0200
TZOFFSETTO:+0100
TZNAME:CET
DTSTART:20211031T010000
END:STANDARD
BEGIN:DAYLIGHT
TZOFFSETFROM:+0100
TZOFFSETTO:+0200
TZNAME:CEST
DTSTART:20220327T010000
END:DAYLIGHT
BEGIN:STANDARD
TZOFFSETFROM:+0200
TZOFFSETTO:+0100
TZNAME:CET
DTSTART:20221030T010000
END:STANDARD
END:VTIMEZONE
BEGIN:VEVENT
DTSTART;TZID=Europe/Berlin:20210903T190000
DTEND;TZID=Europe/Berlin:20210903T190000
DTSTAMP:20260425T165837
CREATED:20210903T170000Z
LAST-MODIFIED:20210831T083236Z
UID:10000352-1630695600-1630695600@www.sozialismus.info
SUMMARY:"Sexismus hat System - weltweit"
DESCRIPTION:Aktivistinnen aus Belgien und Österreich berichten vom internationalen Kampf für sozialistischen Feminismus.
URL:https://www.sozialismus.info/termin/sexismus-hat-system-weltweit/
LOCATION:Berlin: Verein iranischer Flüchtlinge\, Reuterstraße 52\, Berlin Neukölln\, 12047
ATTACH;FMTTYPE=image/png:https://www.sozialismus.info/wp-content/uploads/2021/08/VA-Pic-Berlin1.png
END:VEVENT
BEGIN:VEVENT
DTSTART;TZID=Europe/Berlin:20210908T190000
DTEND;TZID=Europe/Berlin:20210908T210000
DTSTAMP:20260425T165837
CREATED:20210907T161933Z
LAST-MODIFIED:20210907T161933Z
UID:10000357-1631127600-1631134800@www.sozialismus.info
SUMMARY:ROSA Treffen
DESCRIPTION:
URL:https://www.sozialismus.info/termin/rosa-treffen/
LOCATION:Berlin: Verein iranischer Flüchtlinge\, Reuterstraße 52\, Berlin Neukölln\, 12047
END:VEVENT
BEGIN:VEVENT
DTSTART;TZID=Europe/Berlin:20210909T180000
DTEND;TZID=Europe/Berlin:20210909T200000
DTSTAMP:20260425T165837
CREATED:20210909T160000Z
LAST-MODIFIED:20210907T161631Z
UID:10000359-1631210400-1631217600@www.sozialismus.info
SUMMARY:Aktion gegen Catcalling
DESCRIPTION:Open-Mikrphon\, Sticker-Aktion\, Sprühkreide-Stencils
URL:https://www.sozialismus.info/termin/aktion-gegen-catcalling/
LOCATION:Alfred-Scholz-Platz Berlin\, Berlin
ATTACH;FMTTYPE=image/jpeg:https://www.sozialismus.info/wp-content/uploads/2021/09/WhatsApp-Image-2021-09-07-at-18.03.53.jpeg
END:VEVENT
BEGIN:VEVENT
DTSTART;VALUE=DATE:20210911
DTEND;VALUE=DATE:20210912
DTSTAMP:20260425T165837
CREATED:20210905T172245Z
LAST-MODIFIED:20210905T172245Z
UID:10000353-1631318400-1631404799@www.sozialismus.info
SUMMARY:Mietendemo
DESCRIPTION:Infos über http://mietendemo.org/
URL:https://www.sozialismus.info/termin/mietendemo/
LOCATION:Berlin\, Berlin
ATTACH;FMTTYPE=image/png:https://www.sozialismus.info/wp-content/uploads/2021/09/Mietendemo21_gemeinsam.png
END:VEVENT
BEGIN:VEVENT
DTSTART;TZID=Europe/Berlin:20210917T190000
DTEND;TZID=Europe/Berlin:20210917T210000
DTSTAMP:20260425T165837
CREATED:20210917T170000Z
LAST-MODIFIED:20210916T064307Z
UID:10000365-1631905200-1631912400@www.sozialismus.info
SUMMARY:Erfolgreicher Mieter*innenkampf in Schweden: Regierung gestürzt\, Mietregulierung verteidigt
DESCRIPTION:Mit der schwedischen Mietenaktivistin Katja Raetz von Rädda hyresrättarna („Rettet die Mietwohnungen“) aus Stockholm. Sie stellt die erfolgreiche Kampagne gegen am Markt ausgerichtete Mieten vor\, deren nächster Höhepunkt eine landesweite Großdemo am 18.9. in Stockholm ist. Anschließend diskutieren wir\, wie es weitergeht und was Berliner und Stockholmer Aktivist*innen voneinander lernen können.
URL:https://www.sozialismus.info/termin/erfolgreicher-mieterinnenkampf-in-schweden-regierung-gestuerzt-mietregulierung-verteidigt/
LOCATION:Berlin: Verein iranischer Flüchtlinge\, Reuterstraße 52\, Berlin Neukölln\, 12047
ATTACH;FMTTYPE=image/png:https://www.sozialismus.info/wp-content/uploads/2021/09/Kopie-von-Kopie-von-Die-GRUeNE-Illusion-–-warum-eine-Regierung-mit-den-GRUeNEN-weder-das-Klima-retten-noch-die-Gesellschaft-veraendern-wird.2.png
ORGANIZER;CN="SAV Berlin":MAILTO:berlin@sozialismus.info
END:VEVENT
BEGIN:VEVENT
DTSTART;TZID=Europe/Berlin:20210924T190000
DTEND;TZID=Europe/Berlin:20210924T210000
DTSTAMP:20260425T165837
CREATED:20210923T172256Z
LAST-MODIFIED:20210923T172256Z
UID:10000367-1632510000-1632517200@www.sozialismus.info
SUMMARY:Warum der Kampf gegen die Klimakrise antikapitalistisch sein muss
DESCRIPTION:am Freitag ist der Internationale Klimastreik und Aktionstag von Fridays for Future\, mit allein in Deutschland über 400 teilnehmenden Städten. Wir machen eine Veranstaltung am selben Abend\, zu der wir euch herzlich einladen: Warum der Kampf gegen die Klimakrise antikapitalistisch sein muss: Wie die Klimakatastrophe verhindert werden kann und warum ein „grüner Kapitalismus“ keine Lösung ist.
URL:https://www.sozialismus.info/termin/warum-der-kampf-gegen-die-klimakrise-antikapitalistisch-sein-muss/
LOCATION:Berlin: Verein iranischer Flüchtlinge\, Reuterstraße 52\, Berlin Neukölln\, 12047
ATTACH;FMTTYPE=image/jpeg:https://www.sozialismus.info/wp-content/uploads/2021/09/Veranstaltung_antikapitlaistischer_Klimkampf_24.9.21.jpg
ORGANIZER;CN="SAV Berlin":MAILTO:berlin@sozialismus.info
END:VEVENT
END:VCALENDAR