BEGIN:VCALENDAR
VERSION:2.0
PRODID:-//sozialismus.info - ECPv6.15.20//NONSGML v1.0//EN
CALSCALE:GREGORIAN
METHOD:PUBLISH
X-ORIGINAL-URL:https://www.sozialismus.info
X-WR-CALDESC:Veranstaltungen für sozialismus.info
REFRESH-INTERVAL;VALUE=DURATION:PT1H
X-Robots-Tag:noindex
X-PUBLISHED-TTL:PT1H
BEGIN:VTIMEZONE
TZID:Europe/Berlin
BEGIN:DAYLIGHT
TZOFFSETFROM:+0100
TZOFFSETTO:+0200
TZNAME:CEST
DTSTART:20240331T010000
END:DAYLIGHT
BEGIN:STANDARD
TZOFFSETFROM:+0200
TZOFFSETTO:+0100
TZNAME:CET
DTSTART:20241027T010000
END:STANDARD
BEGIN:DAYLIGHT
TZOFFSETFROM:+0100
TZOFFSETTO:+0200
TZNAME:CEST
DTSTART:20250330T010000
END:DAYLIGHT
BEGIN:STANDARD
TZOFFSETFROM:+0200
TZOFFSETTO:+0100
TZNAME:CET
DTSTART:20251026T010000
END:STANDARD
BEGIN:DAYLIGHT
TZOFFSETFROM:+0100
TZOFFSETTO:+0200
TZNAME:CEST
DTSTART:20260329T010000
END:DAYLIGHT
BEGIN:STANDARD
TZOFFSETFROM:+0200
TZOFFSETTO:+0100
TZNAME:CET
DTSTART:20261025T010000
END:STANDARD
END:VTIMEZONE
BEGIN:VEVENT
DTSTART;TZID=Europe/Berlin:20250313T190000
DTEND;TZID=Europe/Berlin:20250313T210000
DTSTAMP:20260424T070000
CREATED:20250226T224234Z
LAST-MODIFIED:20250226T224234Z
UID:10000683-1741892400-1741899600@www.sozialismus.info
SUMMARY:Warum Revolutionär-Sozialistisch organisieren?
DESCRIPTION:Kapitalismus ist nicht das Ende der Geschichte! \nOffenes Ortsgruppentreffen der SAV Hamburg
URL:https://www.sozialismus.info/termin/warum-revolutionaer-sozialistisch-organisieren/
LOCATION:Hamburg: Centro Sociale\, Sternstraße 2\, Hamburg\, 20357\, Deutschland
ORGANIZER;CN="SAV Hamburg":MAILTO:hamburg@sozialismus.info
END:VEVENT
END:VCALENDAR